BEGIN:VCALENDAR
VERSION:2.0
PRODID:-//wp-events-plugin.com//6.6.4.4//EN
TZID:Europe/Berlin
X-WR-TIMEZONE:Europe/Berlin
BEGIN:VEVENT
UID:6983@pg-neu-ulm.de
DTSTART;TZID=Europe/Berlin:20251214T180000
DTEND;TZID=Europe/Berlin:20251214T190000
DTSTAMP:20251204T104205Z
URL:https://www.pg-neu-ulm.de/events/st-mammas-hl-messe-mit-d-chorgemeinsc
 haft-finningen/
SUMMARY:St. Mammas: Hl. Messe mit d. Chorgemeinschaft Finningen
DESCRIPTION:Herzliche Einladung!
CATEGORIES:Programm Kirchenmusik,St. Mammas
LOCATION:St. Mammas\, St.-Mammas-Weg 16\, Neu-Ulm\, 89233\, Deutschland
X-APPLE-STRUCTURED-LOCATION;VALUE=URI;X-ADDRESS=St.-Mammas-Weg 16\, Neu-Ulm
 \, 89233\, Deutschland;X-APPLE-RADIUS=100;X-TITLE=St. Mammas:geo:0,0
END:VEVENT
BEGIN:VTIMEZONE
TZID:Europe/Berlin
X-LIC-LOCATION:Europe/Berlin
BEGIN:STANDARD
DTSTART:20251026T020000
TZOFFSETFROM:+0200
TZOFFSETTO:+0100
TZNAME:CET
END:STANDARD
END:VTIMEZONE
END:VCALENDAR