BEGIN:VCALENDAR
VERSION:2.0
PRODID:-//wp-events-plugin.com//6.6.4.4//EN
TZID:Europe/Berlin
X-WR-TIMEZONE:Europe/Berlin
BEGIN:VEVENT
UID:7072@pg-neu-ulm.de
DTSTART;TZID=Europe/Berlin:20260409T140000
DTEND;TZID=Europe/Berlin:20260409T170000
DTSTAMP:20260317T111205Z
URL:https://www.pg-neu-ulm.de/events/seniorennachmittag-in-pfuhl-5/
SUMMARY:Seniorennachmittag in Pfuhl
DESCRIPTION:Herzliche Einladung zum Seniorennachmittag\nNachdem wir um 14 U
 hr miteinander Gottesdienst gefeiert haben\, berichtet uns Pfarrer Klein v
 on seiner Reise nach Peru.\n\n&nbsp\;\n\nWir freuen uns auf ein Wiedersehe
 n und auf neue Gesichter.\n\nUschi Kroha mit dem bewährten Team (Tel.: 07
 31 713498)
CATEGORIES:Hl. Kreuz,Senioren
LOCATION:Hl. Kreuz\, Platzgasse 14\, Neu-Ulm/Pfuhl\, 89233\, Deutschland
X-APPLE-STRUCTURED-LOCATION;VALUE=URI;X-ADDRESS=Platzgasse 14\, Neu-Ulm/Pfu
 hl\, 89233\, Deutschland;X-APPLE-RADIUS=100;X-TITLE=Hl. Kreuz:geo:0,0
END:VEVENT
BEGIN:VTIMEZONE
TZID:Europe/Berlin
X-LIC-LOCATION:Europe/Berlin
BEGIN:DAYLIGHT
DTSTART:20260329T030000
TZOFFSETFROM:+0100
TZOFFSETTO:+0200
TZNAME:CEST
END:DAYLIGHT
END:VTIMEZONE
END:VCALENDAR