BEGIN:VCALENDAR
VERSION:2.0
PRODID:-//wp-events-plugin.com//6.6.4.4//EN
TZID:Europe/Berlin
X-WR-TIMEZONE:Europe/Berlin
BEGIN:VEVENT
UID:6488@pg-neu-ulm.de
DTSTART;TZID=Europe/Berlin:20251211T140000
DTEND;TZID=Europe/Berlin:20251211T170000
DTSTAMP:20251120T110626Z
URL:https://www.pg-neu-ulm.de/events/seniorennachmittag-in-pfuhl-2025-12-1
 1/
SUMMARY:Seniorennachmittag in Pfuhl
DESCRIPTION:Herzliche Einladung zum adventlichen Seniorennachmittag am 11. 
 Dezember.\nNach dem Gottesdienst um 14 Uhr wollen wir die Wartezeit auf We
 ihnachten mit Liedern und Geschichten\, Kaffee\, Tee und Lebkuchen gestalt
 en.\n\n&nbsp\;\n\nWir freuen uns auf ein Wiedersehen und auf neue Gesichte
 r.\n\nUschi Kroha mit dem bewährten Team (Tel.: 0731 713498)
CATEGORIES:Hl. Kreuz,Senioren
LOCATION:Hl. Kreuz\, Platzgasse 14\, Neu-Ulm/Pfuhl\, 89233\, Deutschland
X-APPLE-STRUCTURED-LOCATION;VALUE=URI;X-ADDRESS=Platzgasse 14\, Neu-Ulm/Pfu
 hl\, 89233\, Deutschland;X-APPLE-RADIUS=100;X-TITLE=Hl. Kreuz:geo:0,0
END:VEVENT
BEGIN:VTIMEZONE
TZID:Europe/Berlin
X-LIC-LOCATION:Europe/Berlin
BEGIN:STANDARD
DTSTART:20251026T020000
TZOFFSETFROM:+0200
TZOFFSETTO:+0100
TZNAME:CET
END:STANDARD
END:VTIMEZONE
END:VCALENDAR