BEGIN:VCALENDAR
VERSION:2.0
PRODID:-//wp-events-plugin.com//6.6.4.4//EN
TZID:Europe/Berlin
X-WR-TIMEZONE:Europe/Berlin
BEGIN:VEVENT
UID:6093@pg-neu-ulm.de
DTSTART;TZID=Europe/Berlin:20251203T090000
DTEND;TZID=Europe/Berlin:20251203T110000
DTSTAMP:20241011T071516Z
URL:https://www.pg-neu-ulm.de/events/senioren-fruehstueckstreff-2025-12-03
 /
SUMMARY:Senioren-Frühstückstreff
DESCRIPTION:Herzliche Einladung an alle\n\njeden 1. Mittwoch im Monat bei d
 er Bäckerei Bayer\, Augsburger Str. 16 um 9 Uhr.
CATEGORIES:Ökumene,Senioren
LOCATION:Bäckerei Bayer\, Augsburger Str. 16\, Neu-Ulm\, Bayern\, 89231\, 
 Deutschland
X-APPLE-STRUCTURED-LOCATION;VALUE=URI;X-ADDRESS=Augsburger Str. 16\, Neu-Ul
 m\, Bayern\, 89231\, Deutschland;X-APPLE-RADIUS=100;X-TITLE=Bäckerei Baye
 r:geo:0,0
END:VEVENT
BEGIN:VTIMEZONE
TZID:Europe/Berlin
X-LIC-LOCATION:Europe/Berlin
BEGIN:STANDARD
DTSTART:20251026T020000
TZOFFSETFROM:+0200
TZOFFSETTO:+0100
TZNAME:CET
END:STANDARD
END:VTIMEZONE
END:VCALENDAR