BEGIN:VCALENDAR
VERSION:2.0
PRODID:-//wp-events-plugin.com//6.6.4.4//EN
TZID:Europe/Berlin
X-WR-TIMEZONE:Europe/Berlin
BEGIN:VEVENT
UID:6841@pg-neu-ulm.de
DTSTART;TZID=Europe/Berlin:20251231T163000
DTEND;TZID=Europe/Berlin:20251231T173000
DTSTAMP:20251125T085643Z
URL:https://www.pg-neu-ulm.de/events/oekum-jahresabschlussfeier-in-offenha
 usen-erloeserkirche/
SUMMARY:Ökum. Jahresabschlussfeier in Offenhausen (Erlöserkirche)
DESCRIPTION:&nbsp\;\n\n\n\n\n\nFestprogramm 2025 - 2026: 70 Jahre St. Alber
 t\n(bitte anklicken - PDF öffnet sich)\n\n
CATEGORIES:St. Albert
LOCATION:Erlöserkirche\, Martin-Luther-Straße 2\, Neu-Ulm\, 89231\, Deuts
 chland
X-APPLE-STRUCTURED-LOCATION;VALUE=URI;X-ADDRESS=Martin-Luther-Straße 2\, N
 eu-Ulm\, 89231\, Deutschland;X-APPLE-RADIUS=100;X-TITLE=Erlöserkirche:geo
 :0,0
END:VEVENT
BEGIN:VTIMEZONE
TZID:Europe/Berlin
X-LIC-LOCATION:Europe/Berlin
BEGIN:STANDARD
DTSTART:20251026T020000
TZOFFSETFROM:+0200
TZOFFSETTO:+0100
TZNAME:CET
END:STANDARD
END:VTIMEZONE
END:VCALENDAR