BEGIN:VCALENDAR
VERSION:2.0
PRODID:-//wp-events-plugin.com//6.6.4.4//EN
TZID:Europe/Berlin
X-WR-TIMEZONE:Europe/Berlin
BEGIN:VEVENT
UID:6817@pg-neu-ulm.de
DTSTART;TZID=Europe/Berlin:20251201T190000
DTEND;TZID=Europe/Berlin:20251201T210000
DTSTAMP:20251124T102937Z
URL:https://www.pg-neu-ulm.de/events/malteser-nu-geistlicher-impulsabend-t
 hema-advent-bitte-anmelden/
SUMMARY:Malteser NU: Geistlicher Impulsabend (Thema: Advent) - bitte anmeld
 en
DESCRIPTION:Am Montag\, d. 01. Dezember um 19.00 Uhr laden wir ganz herzlic
 h zum nächsten geistlichen Impulsabend in unserer Neu-Ulmer Dienststelle 
 ein.\n\nWir freuen uns\, dass unser Stadtpfarrer Karl Klein uns an diesem 
 Abend einen Impuls zum Thema Advent geben wird. Es wird wieder ein interes
 santer Abend mit Gesprächen\, Gebet und Gesang. Die Veranstaltung ist kos
 tenlos. Für Getränke und Adventsknabbereien ist gesorgt. Es besteht am E
 nde des Abends die Möglichkeit\, das Sakrament der Versöhnung zu empfang
 en.\n\nAnmeldung bis Dienstag\, d. 25. November bei:\nMalteser Hilfsdienst
  e.V.\, Donaustr. 33\, 89231 Neu-Ulm\, info-neu-ulm@malteser.org oder pi
 a.eble@malteser.org\, Tel. 0731-725656-19\n\n&nbsp\;\n\n
CATEGORIES:Advent
LOCATION:Malteser Hilfsdienst e. V.\, Donaustr. 33\, Neu-Ulm\, 89231\, Deut
 schland
X-APPLE-STRUCTURED-LOCATION;VALUE=URI;X-ADDRESS=Donaustr. 33\, Neu-Ulm\, 89
 231\, Deutschland;X-APPLE-RADIUS=100;X-TITLE=Malteser Hilfsdienst e. V.:ge
 o:0,0
END:VEVENT
BEGIN:VTIMEZONE
TZID:Europe/Berlin
X-LIC-LOCATION:Europe/Berlin
BEGIN:STANDARD
DTSTART:20251026T020000
TZOFFSETFROM:+0200
TZOFFSETTO:+0100
TZNAME:CET
END:STANDARD
END:VTIMEZONE
END:VCALENDAR