BEGIN:VCALENDAR
VERSION:2.0
PRODID:-//wp-events-plugin.com//6.6.4.4//EN
TZID:Europe/Berlin
X-WR-TIMEZONE:Europe/Berlin
BEGIN:VEVENT
UID:6802@pg-neu-ulm.de
DTSTART;TZID=Europe/Berlin:20251224T160000
DTEND;TZID=Europe/Berlin:20251224T170000
DTSTAMP:20251209T101442Z
URL:https://www.pg-neu-ulm.de/events/krippenspiel-in-jeder-pfarrei/
SUMMARY:Krippenspiel in jeder Pfarrei
DESCRIPTION:In allen 5 Pfarreien findet das Krippenspiel jeweils um 16 Uhr 
 statt.\n\nHerzliche Einladung!\n\n&nbsp\;\n\nHl. Kreuz:\nMusik mit Maria u
 . Thomas Kleinhans\n\nSt. Johann:\nMusikalische Umrahmung durch das Projek
 tensemble mit\nUlrike Allgaier\, Gesang\nRonja Löbowitz\, Violine\nAstrid
  Sproll\, Gesang\nHans Steinle\, Gitarre\nDominik Herkommer\, Piano\n\n\n\
 n \n\n
CATEGORIES:Familie,Familiengottesdienst,Hl. Kreuz,Programm
 Kirchenmusik,St. Albert,St. Johann Baptist,St. Konrad,St. Mammas
END:VEVENT
BEGIN:VTIMEZONE
TZID:Europe/Berlin
X-LIC-LOCATION:Europe/Berlin
BEGIN:STANDARD
DTSTART:20251026T020000
TZOFFSETFROM:+0200
TZOFFSETTO:+0100
TZNAME:CET
END:STANDARD
END:VTIMEZONE
END:VCALENDAR