BEGIN:VCALENDAR
VERSION:2.0
PRODID:-//wp-events-plugin.com//6.6.4.4//EN
TZID:Europe/Berlin
X-WR-TIMEZONE:Europe/Berlin
BEGIN:VEVENT
UID:6776@pg-neu-ulm.de
DTSTART;TZID=Europe/Berlin:20260108T093000
DTEND;TZID=Europe/Berlin:20260108T170000
DTSTAMP:20251029T111834Z
URL:https://www.pg-neu-ulm.de/events/krippenfahrt-der-pg/
SUMMARY:Krippenfahrt der PG - bitte anmelden bis 22.12.
DESCRIPTION:
END:VEVENT
BEGIN:VTIMEZONE
TZID:Europe/Berlin
X-LIC-LOCATION:Europe/Berlin
BEGIN:STANDARD
DTSTART:20251026T020000
TZOFFSETFROM:+0200
TZOFFSETTO:+0100
TZNAME:CET
END:STANDARD
END:VTIMEZONE
END:VCALENDAR