BEGIN:VCALENDAR
VERSION:2.0
PRODID:-//wp-events-plugin.com//6.6.4.4//EN
TZID:Europe/Berlin
X-WR-TIMEZONE:Europe/Berlin
BEGIN:VEVENT
UID:7067@pg-neu-ulm.de
DTSTART;TZID=Europe/Berlin:20260425T190000
DTEND;TZID=Europe/Berlin:20260425T210000
DTSTAMP:20251218T100507Z
URL:https://www.pg-neu-ulm.de/events/konzert-kontra-g-reihe-mit-dominik-he
 rkommer-in-st-konrad/
SUMMARY:Konzert Kontra G-Reihe mit Dominik Herkommer in St. Konrad
DESCRIPTION:Herzliche Einladung!\n\nSonntag 12.4.2026 um 19 Uhr\, St. Johan
 n\nKonzert im Rahmen der Kontra G-Reihe mit Dominik Herkommer
CATEGORIES:Programm Kirchenmusik,St. Konrad
LOCATION:St. Konrad\, Friedhofstr. 8\, Neu-Ulm/Burlafingen\, Bayern\, 89233
 \, Deutschland
X-APPLE-STRUCTURED-LOCATION;VALUE=URI;X-ADDRESS=Friedhofstr. 8\, Neu-Ulm/Bu
 rlafingen\, Bayern\, 89233\, Deutschland;X-APPLE-RADIUS=100;X-TITLE=St. Ko
 nrad:geo:0,0
END:VEVENT
BEGIN:VTIMEZONE
TZID:Europe/Berlin
X-LIC-LOCATION:Europe/Berlin
BEGIN:DAYLIGHT
DTSTART:20260329T030000
TZOFFSETFROM:+0100
TZOFFSETTO:+0200
TZNAME:CEST
END:DAYLIGHT
END:VTIMEZONE
END:VCALENDAR