BEGIN:VCALENDAR
VERSION:2.0
PRODID:-//wp-events-plugin.com//6.6.4.4//EN
TZID:Europe/Berlin
X-WR-TIMEZONE:Europe/Berlin
BEGIN:VEVENT
UID:7096@pg-neu-ulm.de
DTSTART;TZID=Europe/Berlin:20260519T140000
DTEND;TZID=Europe/Berlin:20260519T170000
DTSTAMP:20260414T091950Z
URL:https://www.pg-neu-ulm.de/events/konrads-cafe-2026-05-19/
SUMMARY:Maiandacht mit Pfarrer Klein mit anschl. Konrads Cafe - im Pfarrhei
 m
DESCRIPTION:Herzliche Einladung ins Pfarrheim St. Konrad!\nAm Dienstag\, 19
 . Mai feiern wir zusammen eine Maiandacht und laden im Anschluss herzlich 
 ein ins Konrads Cafe.\n\n\n\n\n\nDas Konrads-Cafe ist immer am 3. Dienstag
  im Monat geöffnet ab 14.00 Uhr im Pfarrheim St. Konrad.\nAlle sind Einge
 laden Jung und Alt - Groß und Klein.\n\nWir freuen uns immer über viele 
 Besucher.\n\nDas Konrads-Cafe Team\nGerle Ursula\, Annemarie Nerb\, Sophie
  Konrad\, Adele Schreier\, Renate Müller\, Georg Schlaier\, Resi Seibl.\n
 \n\n\n&nbsp\;\n\nAnsprechpartnerin:\nRenate Müller\nPrader Straße 16\nE-
 Mail: müllermayer@gmx.de\nTel.: 0731 25064415\n\n\n\nKaffee trinken viele
  Leute\,\ngestern\, morgen und auch heute\,\nmanche trinken richtig viel\,
 \ndie meisten aber ohne Stil.\n\nWir wollen es anders machen\,\nsitzen\, q
 uatschen und auch lachen\,\nDienstagmittag an unsrem Tisch\,\nKaffee und K
 uchen gibt es frisch.\n\nKommst Du also auch vorbei\,\ndann sind wir immer
 hin schon zwei\nund kommt noch jemand anderes mit\,\nsind wir gerne auch z
 u dritt.\n\n&nbsp\;
CATEGORIES:St. Konrad
LOCATION:Pfarrzentrum St. Konrad\, Friedhofstr. 8\, Neu-Ulm/Burlafingen\, B
 ayern\, 89233\, Deutschland
X-APPLE-STRUCTURED-LOCATION;VALUE=URI;X-ADDRESS=Friedhofstr. 8\, Neu-Ulm/Bu
 rlafingen\, Bayern\, 89233\, Deutschland;X-APPLE-RADIUS=100;X-TITLE=Pfarrz
 entrum St. Konrad:geo:0,0
END:VEVENT
BEGIN:VTIMEZONE
TZID:Europe/Berlin
X-LIC-LOCATION:Europe/Berlin
BEGIN:DAYLIGHT
DTSTART:20260329T030000
TZOFFSETFROM:+0100
TZOFFSETTO:+0200
TZNAME:CEST
END:DAYLIGHT
END:VTIMEZONE
END:VCALENDAR