BEGIN:VCALENDAR
VERSION:2.0
PRODID:-//wp-events-plugin.com//6.6.4.4//EN
TZID:Europe/Berlin
X-WR-TIMEZONE:Europe/Berlin
BEGIN:VEVENT
UID:7094@pg-neu-ulm.de
DTSTART;TZID=Europe/Berlin:20260317T140000
DTEND;TZID=Europe/Berlin:20260317T170000
DTSTAMP:20260304T115719Z
URL:https://www.pg-neu-ulm.de/events/konrads-cafe-2026-03-17/
SUMMARY:Konrads Cafe
DESCRIPTION:\n\nDas Konrads-Cafe ist immer am 3. Dienstag im Monat geöffne
 t ab 14.00 Uhr im Pfarrheim St. Konrad.\nAlle sind Eingeladen Jung und Alt
  - Groß und Klein.\n\nWir freuen uns immer über viele Besucher.\n\nDas K
 onrads-Cafe Team\nGerle Ursula\, Annemarie Nerb\, Sophie Konrad\, Adele Sc
 hreier\, Renate Müller\, Georg Schlaier\, Resi Seibl.\n\n\n\n&nbsp\;\n\nA
 nsprechpartnerin:\nRenate Müller\nPrader Straße 16\nE-Mail: müllermayer
 @gmx.de\nTel.: 0731 25064415\n\n\n\nKaffee trinken viele Leute\,\ngestern\
 , morgen und auch heute\,\nmanche trinken richtig viel\,\ndie meisten aber
  ohne Stil.\n\nWir wollen es anders machen\,\nsitzen\, quatschen und auch 
 lachen\,\nDienstagmittag an unsrem Tisch\,\nKaffee und Kuchen gibt es fris
 ch.\n\nKommst Du also auch vorbei\,\ndann sind wir immerhin schon zwei\nun
 d kommt noch jemand anderes mit\,\nsind wir gerne auch zu dritt.\n\n&nbsp\
 ;
CATEGORIES:St. Konrad
LOCATION:Pfarrzentrum St. Konrad\, Friedhofstr. 8\, Neu-Ulm/Burlafingen\, B
 ayern\, 89233\, Deutschland
X-APPLE-STRUCTURED-LOCATION;VALUE=URI;X-ADDRESS=Friedhofstr. 8\, Neu-Ulm/Bu
 rlafingen\, Bayern\, 89233\, Deutschland;X-APPLE-RADIUS=100;X-TITLE=Pfarrz
 entrum St. Konrad:geo:0,0
END:VEVENT
BEGIN:VTIMEZONE
TZID:Europe/Berlin
X-LIC-LOCATION:Europe/Berlin
BEGIN:STANDARD
DTSTART:20251026T020000
TZOFFSETFROM:+0200
TZOFFSETTO:+0100
TZNAME:CET
END:STANDARD
END:VTIMEZONE
END:VCALENDAR