BEGIN:VCALENDAR
VERSION:2.0
PRODID:-//wp-events-plugin.com//6.6.4.4//EN
TZID:Europe/Berlin
X-WR-TIMEZONE:Europe/Berlin
BEGIN:VEVENT
UID:6782@pg-neu-ulm.de
DTSTART;TZID=Europe/Berlin:20251216T190000
DTEND;TZID=Europe/Berlin:20251216T210000
DTSTAMP:20250930T104503Z
URL:https://www.pg-neu-ulm.de/events/kolping-nu-wir-stimmen-uns-auf-weihna
 chten-ein/
SUMMARY:Kolping NU: Wir stimmen uns auf Weihnachten ein
DESCRIPTION:Herzliche Einladung!\n\nBeginn: 19 Uhr\n\n&nbsp\;\n\n\n\nKolpin
 gsfamilie Neu-Ulm (PDF öffnen)\n\n
CATEGORIES:Kolpingsfamilie Neu-Ulm
LOCATION:Johanneshaus\, Johannesplatz 4\, Neu-Ulm\, Bayern\, 89231\, Deutsc
 hland
X-APPLE-STRUCTURED-LOCATION;VALUE=URI;X-ADDRESS=Johannesplatz 4\, Neu-Ulm\,
  Bayern\, 89231\, Deutschland;X-APPLE-RADIUS=100;X-TITLE=Johanneshaus:geo:
 0,0
END:VEVENT
BEGIN:VTIMEZONE
TZID:Europe/Berlin
X-LIC-LOCATION:Europe/Berlin
BEGIN:STANDARD
DTSTART:20251026T020000
TZOFFSETFROM:+0200
TZOFFSETTO:+0100
TZNAME:CET
END:STANDARD
END:VTIMEZONE
END:VCALENDAR