BEGIN:VCALENDAR
VERSION:2.0
PRODID:-//wp-events-plugin.com//6.6.4.4//EN
TZID:Europe/Berlin
X-WR-TIMEZONE:Europe/Berlin
BEGIN:VEVENT
UID:7149@pg-neu-ulm.de
DTSTART;TZID=Europe/Berlin:20260322T100000
DTEND;TZID=Europe/Berlin:20260322T110000
DTSTAMP:20260304T120025Z
URL:https://www.pg-neu-ulm.de/events/kolping-nu-pfuhl-spenden-fuer-die-neu
 -ulmer-tafel-in-st-johann/
SUMMARY:Kolping NU + Pfuhl: Spenden für die Neu-Ulmer Tafel in St. Johann
DESCRIPTION:
CATEGORIES:Kolping,Kolpingsfamilie Neu-Ulm
LOCATION:St. Johann Baptist\, Johannesplatz 1\, Neu-Ulm\, Bayern\, 89231\, 
 Deutschland
X-APPLE-STRUCTURED-LOCATION;VALUE=URI;X-ADDRESS=Johannesplatz 1\, Neu-Ulm\,
  Bayern\, 89231\, Deutschland;X-APPLE-RADIUS=100;X-TITLE=St. Johann Baptis
 t:geo:0,0
END:VEVENT
BEGIN:VTIMEZONE
TZID:Europe/Berlin
X-LIC-LOCATION:Europe/Berlin
BEGIN:STANDARD
DTSTART:20251026T020000
TZOFFSETFROM:+0200
TZOFFSETTO:+0100
TZNAME:CET
END:STANDARD
END:VTIMEZONE
END:VCALENDAR