BEGIN:VCALENDAR
VERSION:2.0
PRODID:-//wp-events-plugin.com//6.6.4.4//EN
TZID:Europe/Berlin
X-WR-TIMEZONE:Europe/Berlin
BEGIN:VEVENT
UID:6780@pg-neu-ulm.de
DTSTART;TZID=Europe/Berlin:20251206T180000
DTEND;TZID=Europe/Berlin:20251206T200000
DTSTAMP:20251111T112821Z
URL:https://www.pg-neu-ulm.de/events/kolping-nu-nikolausfeier-bitte-anmeld
 en-bis-30-11/
SUMMARY:Kolping NU: Nikolausfeier - bitte anmelden bis 30.11.
DESCRIPTION:Nikolausfeier im Johanneshaus\n\nBitte anmelden bis 30.11.2025 
 bei Familie Haselbauer Tel. 0731 76107 oder maria.haselbauer@t-online.de\n
 \n\n\n\n\nKolpingsfamilie Neu-Ulm (PDF öffnen)\n\n
CATEGORIES:Kolpingsfamilie Neu-Ulm
LOCATION:Johanneshaus\, Johannesplatz 4\, Neu-Ulm\, Bayern\, 89231\, Deutsc
 hland
X-APPLE-STRUCTURED-LOCATION;VALUE=URI;X-ADDRESS=Johannesplatz 4\, Neu-Ulm\,
  Bayern\, 89231\, Deutschland;X-APPLE-RADIUS=100;X-TITLE=Johanneshaus:geo:
 0,0
END:VEVENT
BEGIN:VTIMEZONE
TZID:Europe/Berlin
X-LIC-LOCATION:Europe/Berlin
BEGIN:STANDARD
DTSTART:20251026T020000
TZOFFSETFROM:+0200
TZOFFSETTO:+0100
TZNAME:CET
END:STANDARD
END:VTIMEZONE
END:VCALENDAR