BEGIN:VCALENDAR
VERSION:2.0
PRODID:-//wp-events-plugin.com//6.6.4.4//EN
TZID:Europe/Berlin
X-WR-TIMEZONE:Europe/Berlin
BEGIN:VEVENT
UID:6744@pg-neu-ulm.de
DTSTART;TZID=Europe/Berlin;VALUE=DATE:20260116
DTEND;TZID=Europe/Berlin;VALUE=DATE:20260119
DTSTAMP:20251203T083500Z
URL:https://www.pg-neu-ulm.de/events/kolping-nu-familienwochenende-anmeldu
 ng-bis-12-12/
SUMMARY:Kolping NU: Familienwochenende - ausgebucht
DESCRIPTION:
CATEGORIES:Familie,Kolping,Kolpingsfamilie Neu-Ulm
LOCATION:Kolping Allgäuhaus\, Kolpingstraße 1\, Wertach\, 87497\, Deutsch
 land
X-APPLE-STRUCTURED-LOCATION;VALUE=URI;X-ADDRESS=Kolpingstraße 1\, Wertach\
 , 87497\, Deutschland;X-APPLE-RADIUS=100;X-TITLE=Kolping Allgäuhaus:geo:0
 ,0
END:VEVENT
BEGIN:VTIMEZONE
TZID:Europe/Berlin
X-LIC-LOCATION:Europe/Berlin
BEGIN:STANDARD
DTSTART:20251026T020000
TZOFFSETFROM:+0200
TZOFFSETTO:+0100
TZNAME:CET
END:STANDARD
END:VTIMEZONE
END:VCALENDAR