BEGIN:VCALENDAR
VERSION:2.0
PRODID:-//wp-events-plugin.com//6.6.4.4//EN
TZID:Europe/Berlin
X-WR-TIMEZONE:Europe/Berlin
BEGIN:VEVENT
UID:6842@pg-neu-ulm.de
DTSTART;TZID=Europe/Berlin:20251214T100000
DTEND;TZID=Europe/Berlin:20251214T110000
DTSTAMP:20251114T104820Z
URL:https://www.pg-neu-ulm.de/events/kinderkirche-zum-3-advent-in-hl-kreuz
 /
SUMMARY:Kinderkirche zum 3. Advent in Hl. Kreuz
DESCRIPTION:
CATEGORIES:Familie,Familiengottesdienst,Hl. Kreuz,Kinderkirche
LOCATION:Hl. Kreuz\, Platzgasse 14\, Neu-Ulm/Pfuhl\, 89233\, Deutschland
X-APPLE-STRUCTURED-LOCATION;VALUE=URI;X-ADDRESS=Platzgasse 14\, Neu-Ulm/Pfu
 hl\, 89233\, Deutschland;X-APPLE-RADIUS=100;X-TITLE=Hl. Kreuz:geo:0,0
END:VEVENT
BEGIN:VTIMEZONE
TZID:Europe/Berlin
X-LIC-LOCATION:Europe/Berlin
BEGIN:STANDARD
DTSTART:20251026T020000
TZOFFSETFROM:+0200
TZOFFSETTO:+0100
TZNAME:CET
END:STANDARD
END:VTIMEZONE
END:VCALENDAR