BEGIN:VCALENDAR
VERSION:2.0
PRODID:-//wp-events-plugin.com//6.6.4.4//EN
TZID:Europe/Berlin
X-WR-TIMEZONE:Europe/Berlin
BEGIN:VEVENT
UID:6836@pg-neu-ulm.de
DTSTART;TZID=Europe/Berlin:20251221T100000
DTEND;TZID=Europe/Berlin:20251221T110000
DTSTAMP:20251112T082935Z
URL:https://www.pg-neu-ulm.de/events/kinderkirche-im-advent-i-d-krypta-in-
 st-johann-baptist-2025-12-21/
SUMMARY:Kinderkirche im Advent i. d. Krypta in St. Johann Baptist
DESCRIPTION:
CATEGORIES:Advent,Familie,Familiengottesdienst,St. Johann Baptist
LOCATION:St. Johann Baptist\, Krypta\, Johannesplatz\, Neu-Ulm\, Bayern\, 8
 9231\, Deutschland
X-APPLE-STRUCTURED-LOCATION;VALUE=URI;X-ADDRESS=Johannesplatz\, Neu-Ulm\, B
 ayern\, 89231\, Deutschland;X-APPLE-RADIUS=100;X-TITLE=St. Johann Baptist\
 , Krypta:geo:0,0
END:VEVENT
BEGIN:VTIMEZONE
TZID:Europe/Berlin
X-LIC-LOCATION:Europe/Berlin
BEGIN:STANDARD
DTSTART:20251026T020000
TZOFFSETFROM:+0200
TZOFFSETTO:+0100
TZNAME:CET
END:STANDARD
END:VTIMEZONE
END:VCALENDAR