BEGIN:VCALENDAR
VERSION:2.0
PRODID:-//wp-events-plugin.com//6.6.4.4//EN
TZID:Europe/Berlin
X-WR-TIMEZONE:Europe/Berlin
BEGIN:VEVENT
UID:6829@pg-neu-ulm.de
DTSTART;TZID=Europe/Berlin:20251207T100000
DTEND;TZID=Europe/Berlin:20251207T110000
DTSTAMP:20251114T105003Z
URL:https://www.pg-neu-ulm.de/events/kindergottesdienst-im-advent-im-pfarr
 heim-st-konrad-2025-12-07/
SUMMARY:Kindergottesdienst im Advent im Pfarrheim St. Konrad
DESCRIPTION:
CATEGORIES:Advent,Familie,Familiengottesdienst,St. Konrad
LOCATION:Pfarrzentrum St. Konrad\, Friedhofstr. 8\, Neu-Ulm/Burlafingen\, B
 ayern\, 89233\, Deutschland
X-APPLE-STRUCTURED-LOCATION;VALUE=URI;X-ADDRESS=Friedhofstr. 8\, Neu-Ulm/Bu
 rlafingen\, Bayern\, 89233\, Deutschland;X-APPLE-RADIUS=100;X-TITLE=Pfarrz
 entrum St. Konrad:geo:0,0
END:VEVENT
BEGIN:VTIMEZONE
TZID:Europe/Berlin
X-LIC-LOCATION:Europe/Berlin
BEGIN:STANDARD
DTSTART:20251026T020000
TZOFFSETFROM:+0200
TZOFFSETTO:+0100
TZNAME:CET
END:STANDARD
END:VTIMEZONE
END:VCALENDAR