BEGIN:VCALENDAR
VERSION:2.0
PRODID:-//wp-events-plugin.com//6.6.4.4//EN
TZID:Europe/Berlin
X-WR-TIMEZONE:Europe/Berlin
BEGIN:VEVENT
UID:7141@pg-neu-ulm.de
DTSTART;TZID=Europe/Berlin:20260403T150000
DTEND;TZID=Europe/Berlin:20260403T163000
DTSTAMP:20260227T105746Z
URL:https://www.pg-neu-ulm.de/events/karfreitag-mal-anders-in-st-albert/
SUMMARY:Karfreitag mal anders - in St. Albert
DESCRIPTION:Karfreitag mal anders – eine Einladung zum Innehalten\n\nKarf
 reitag ist ein stiller\, schwerer Tag. Ein Tag\, der von Leid\, Verlust un
 d Abschied erzählt. Und doch ist er zugleich ein Tag\, der uns tief berü
 hrt – wenn wir ihm Raum geben. Unter dem Titel „Karfreitag mal anders
 “ lädt die Pfarrei St. Albert in Offenhausen/Neu-Ulm am Karfreitag 2026
  um 15:00 Uhr zu einem besonderen Gottesdienst ein\, der neue Wege geht un
 d neugierig machen will.\n\nDieser Gottesdienst ist bewusst anders gestalt
 et: modern\, künstlerisch\, atmosphärisch dicht – und gleichzeitig get
 ragen von der tiefen Botschaft dieses Tages. Licht und Dunkelheit\, Musik\
 , Worte und Bewegung verweben sich zu einer spirituellen Erfahrung\, die d
 en Karfreitag nicht erklärt\, sondern erlebbar macht. Es geht um Verlasse
 n-Sein und Nähe\, um Trauer und Mitgefühl\, um Fragen\, die viele von un
 s kennen: Wo erlebe ich Dunkelheit? Was trägt mich\, wenn Sicherheiten ze
 rbrechen?\n\nEin besonderer Akzent liegt auf der künstlerischen Gestaltun
 g. Mit dabei ist der renommierte Tänzer und Choreograf Domenico Strazzeri
  und Katharina Krummenacher\, der mit Ausdruckstanz die Passion Jesu in be
 rührende Bilder übersetzt. Der Tanz wird dabei zur Sprache für das\, wa
 s Worte oft nicht mehr fassen können: Schmerz\, Fürsorge\, Abschied – 
 und leise Hoffnung.\n\nMusikalisch gestaltet wird der Gottesdienst von Ale
 xandra Jörg. Mit ihrer ausdrucksstarken Stimme und feinfühligen Liedausw
 ahl schafft sie Klangräume\, die unter die Haut gehen und zur persönlich
 en Auseinandersetzung einladen. Unterstützt wird sie von Gabriele Fischer
 . Musik wird hier nicht zum Hintergrund\, sondern zum Wegbegleiter durch d
 iesen besonderen Nachmittag.\n\nDer Gottesdienst beginnt bewusst im Dunkel
  und führt Schritt für Schritt in eine andere Atmosphäre hinein. Die Be
 sucherinnen und Besucher sind eingeladen\, innerlich mitzugehen\, eigene T
 rauer\, Sorgen oder Verluste mitzubringen und symbolisch vor Gott zu legen
 . Dabei bleibt viel Raum für Stille\, persönliche Gedanken und Gebet.\n\
 n„Karfreitag mal anders“ richtet sich an alle – unabhängig von Alte
 r oder Kirchenbindung. Besonders Menschen\, die mit klassischen Gottesdien
 stformen wenig anfangen können\, sind herzlich willkommen. Wer neugierig 
 ist auf eine moderne\, tiefgehende und berührende Art\, Karfreitag zu erl
 eben\, sollte sich diesen Termin vormerken.\n\nHerzliche Einladung zu eine
 m Karfreitag\, der nachklingt.\n\n&nbsp\;\n\n
CATEGORIES:Fastenzeit
LOCATION:St. Albert\, Goethestraße 5\, Neu-Ulm/Offenhausen\, 89231\, Deuts
 chland
X-APPLE-STRUCTURED-LOCATION;VALUE=URI;X-ADDRESS=Goethestraße 5\, Neu-Ulm/O
 ffenhausen\, 89231\, Deutschland;X-APPLE-RADIUS=100;X-TITLE=St. Albert:geo
 :0,0
END:VEVENT
BEGIN:VTIMEZONE
TZID:Europe/Berlin
X-LIC-LOCATION:Europe/Berlin
BEGIN:DAYLIGHT
DTSTART:20260329T030000
TZOFFSETFROM:+0100
TZOFFSETTO:+0200
TZNAME:CEST
END:DAYLIGHT
END:VTIMEZONE
END:VCALENDAR