BEGIN:VCALENDAR
VERSION:2.0
PRODID:-//wp-events-plugin.com//6.6.4.4//EN
TZID:Europe/Berlin
X-WR-TIMEZONE:Europe/Berlin
BEGIN:VEVENT
UID:7036@pg-neu-ulm.de
DTSTART;TZID=Europe/Berlin:20260621T100000
DTEND;TZID=Europe/Berlin:20260621T110000
DTSTAMP:20260121T174908Z
URL:https://www.pg-neu-ulm.de/events/gottesdienst-m-livestream-aus-st-joha
 nn-baptist-2026-06-21/
SUMMARY:Patrozinium m. Livestream aus St. Johann Baptist m. d. Band\, ansch
 l. Kirchenkaffee
DESCRIPTION:Gottesdienst-Liveübertragung aus St. Johann\n\nDirekt zum YouT
 ube Kanal der PG Neu-Ulm: https://www.youtube.com/@pgneu-ulmlive1243/strea
 ms
CATEGORIES:KirchenkaffeeJohann,Programm Kirchenmusik,St. Johann
 Baptist,YouTube
LOCATION:St. Johann Baptist\, Johannesplatz 1\, Neu-Ulm\, Bayern\, 89231\, 
 Deutschland
X-APPLE-STRUCTURED-LOCATION;VALUE=URI;X-ADDRESS=Johannesplatz 1\, Neu-Ulm\,
  Bayern\, 89231\, Deutschland;X-APPLE-RADIUS=100;X-TITLE=St. Johann Baptis
 t:geo:0,0
END:VEVENT
BEGIN:VTIMEZONE
TZID:Europe/Berlin
X-LIC-LOCATION:Europe/Berlin
BEGIN:DAYLIGHT
DTSTART:20260329T030000
TZOFFSETFROM:+0100
TZOFFSETTO:+0200
TZNAME:CEST
END:DAYLIGHT
END:VTIMEZONE
END:VCALENDAR