BEGIN:VCALENDAR
VERSION:2.0
PRODID:-//wp-events-plugin.com//6.6.4.4//EN
TZID:Europe/Berlin
X-WR-TIMEZONE:Europe/Berlin
BEGIN:VEVENT
UID:6348@pg-neu-ulm.de
DTSTART;TZID=Europe/Berlin:20251228T100000
DTEND;TZID=Europe/Berlin:20251228T110000
DTSTAMP:20250103T094943Z
URL:https://www.pg-neu-ulm.de/events/gottesdienst-livestream-aus-st-johann
 -baptist-2025-12-28/
SUMMARY:Gottesdienst Livestream aus St. Johann Baptist
DESCRIPTION:Gottesdienst-Liveübertragung aus St. Johann\n\nDirekt zum YouT
 ube Kanal der PG Neu-Ulm: https://www.youtube.com/@pgneu-ulmlive1243/strea
 ms
CATEGORIES:St. Johann Baptist,YouTube
LOCATION:https://www.youtube.com/@pgneu-ulmlive1243/streams
END:VEVENT
BEGIN:VTIMEZONE
TZID:Europe/Berlin
X-LIC-LOCATION:Europe/Berlin
BEGIN:STANDARD
DTSTART:20251026T020000
TZOFFSETFROM:+0200
TZOFFSETTO:+0100
TZNAME:CET
END:STANDARD
END:VTIMEZONE
END:VCALENDAR