BEGIN:VCALENDAR
VERSION:2.0
PRODID:-//wp-events-plugin.com//6.6.4.4//EN
TZID:Europe/Berlin
X-WR-TIMEZONE:Europe/Berlin
BEGIN:VEVENT
UID:7107@pg-neu-ulm.de
DTSTART;TZID=Europe/Berlin:20260131T150000
DTEND;TZID=Europe/Berlin:20260131T160000
DTSTAMP:20260122T182858Z
URL:https://www.pg-neu-ulm.de/events/gottesdienst-fuer-menschen-mit-ohne-d
 emenz-in-st-johann/
SUMMARY:Gottesdienst für Menschen mit & ohne Demenz in St. Johann
DESCRIPTION:Nebel im Kopf: Die Suche nach Erinnerung und Identität \n\nht
 tps://youtu.be/OuSZCTfXFuQ?si=QBV2jlrx1XXaoxEr\n\nsiehe auch: https://www.
 sonntagsblatt.de/artikel/gesellschaft/nebel-im-kopf-die-suche-nach-erinner
 ung-und-identitaet\n\n&nbsp\;\n\n
CATEGORIES:St. Johann Baptist
LOCATION:St. Johann Baptist\, Johannesplatz 1\, Neu-Ulm\, Bayern\, 89231\, 
 Deutschland
X-APPLE-STRUCTURED-LOCATION;VALUE=URI;X-ADDRESS=Johannesplatz 1\, Neu-Ulm\,
  Bayern\, 89231\, Deutschland;X-APPLE-RADIUS=100;X-TITLE=St. Johann Baptis
 t:geo:0,0
END:VEVENT
BEGIN:VTIMEZONE
TZID:Europe/Berlin
X-LIC-LOCATION:Europe/Berlin
BEGIN:STANDARD
DTSTART:20251026T020000
TZOFFSETFROM:+0200
TZOFFSETTO:+0100
TZNAME:CET
END:STANDARD
END:VTIMEZONE
END:VCALENDAR