BEGIN:VCALENDAR
VERSION:2.0
PRODID:-//wp-events-plugin.com//6.6.4.4//EN
TZID:Europe/Berlin
X-WR-TIMEZONE:Europe/Berlin
BEGIN:VEVENT
UID:6980@pg-neu-ulm.de
DTSTART;TZID=Europe/Berlin:20251223T060000
DTEND;TZID=Europe/Berlin:20251223T070000
DTSTAMP:20251203T084321Z
URL:https://www.pg-neu-ulm.de/events/fruehschicht-in-st-johann-anschl-frue
 hstueck-3/
SUMMARY:Frühschicht in St. Johann\, anschl. Frühstück
DESCRIPTION:Herzliche Einladung zu den Frühschichten in der Krypta in St. 
 Johann Baptist.\n\nIm Anschluss besteht die Möglichkeit zum gemeinsamen F
 rühstück im Johanneshaus.
CATEGORIES:Advent,St. Johann Baptist
LOCATION:St. Johann Baptist\, Krypta\, Johannesplatz\, Neu-Ulm\, Bayern\, 8
 9231\, Deutschland
X-APPLE-STRUCTURED-LOCATION;VALUE=URI;X-ADDRESS=Johannesplatz\, Neu-Ulm\, B
 ayern\, 89231\, Deutschland;X-APPLE-RADIUS=100;X-TITLE=St. Johann Baptist\
 , Krypta:geo:0,0
END:VEVENT
BEGIN:VTIMEZONE
TZID:Europe/Berlin
X-LIC-LOCATION:Europe/Berlin
BEGIN:STANDARD
DTSTART:20251026T020000
TZOFFSETFROM:+0200
TZOFFSETTO:+0100
TZNAME:CET
END:STANDARD
END:VTIMEZONE
END:VCALENDAR