BEGIN:VCALENDAR
VERSION:2.0
PRODID:-//wp-events-plugin.com//6.6.4.4//EN
TZID:Europe/Berlin
X-WR-TIMEZONE:Europe/Berlin
BEGIN:VEVENT
UID:7010@pg-neu-ulm.de
DTSTART;TZID=Europe/Berlin:20260101T180000
DTEND;TZID=Europe/Berlin:20260101T190000
DTSTAMP:20251216T073950Z
URL:https://www.pg-neu-ulm.de/events/festgottesdienst-m-musikal-gestaltung
 -u-livestream-in-st-johann/
SUMMARY:Festgottesdienst m. musikal. Gestaltung u. Livestream in St. Johann
DESCRIPTION:musikalische Gestaltung:\n\nAve Maria\, Bach-Gounod\nPanis ange
 licus\, César Franck\nAve verum corpus\, Wolfgang Amadé Mozart\n\nKarmen
  Batistic Nardin\, Gesang\nDominik Herkommer\, Orgel\n\n\n\nGottesdienst-L
 iveübertragung aus St. Johann\n\nDirekt zum YouTube Kanal der PG Neu-Ulm:
  https://www.youtube.com/@pgneu-ulmlive1243/streams
CATEGORIES:Programm Kirchenmusik,St. Johann Baptist,YouTube
LOCATION:St. Johann Baptist\, Johannesplatz 1\, Neu-Ulm\, Bayern\, 89231\, 
 Deutschland
X-APPLE-STRUCTURED-LOCATION;VALUE=URI;X-ADDRESS=Johannesplatz 1\, Neu-Ulm\,
  Bayern\, 89231\, Deutschland;X-APPLE-RADIUS=100;X-TITLE=St. Johann Baptis
 t:geo:0,0
END:VEVENT
BEGIN:VTIMEZONE
TZID:Europe/Berlin
X-LIC-LOCATION:Europe/Berlin
BEGIN:STANDARD
DTSTART:20251026T020000
TZOFFSETFROM:+0200
TZOFFSETTO:+0100
TZNAME:CET
END:STANDARD
END:VTIMEZONE
END:VCALENDAR