BEGIN:VCALENDAR
VERSION:2.0
PRODID:-//wp-events-plugin.com//6.6.4.4//EN
TZID:Europe/Berlin
X-WR-TIMEZONE:Europe/Berlin
BEGIN:VEVENT
UID:7159@pg-neu-ulm.de
DTSTART;TZID=Europe/Berlin:20260421T093000
DTEND;TZID=Europe/Berlin:20260421T103000
DTSTAMP:20260305T105151Z
URL:https://www.pg-neu-ulm.de/events/faszien-gymnastik-fuer-jedes-alter-un
 d-qigong-im-johanneshaus-2-2026-04-21/
SUMMARY:„Faszien-Gymnastik – für jedes Alter“ und Qigong im Johannes
 haus
DESCRIPTION:„FASZIEN-GYMNASTIK – für jedes Alter“ und Qigong\n\n„F
 aszien“ – was ungewohnt klingt ist nichts anderes als die moderne Beze
 ichnung für unser Bindegewebe. Wie ein Netzwerk verbinden sie Muskeln\, K
 nochen\, Organe und Nerven – überall im Körper. Bei zu wenig Bewegung 
 hingegen verkleben die Faszien. Die Folgen sind Schmerzen\, Verspannungen 
 und Bewegungseinschränkungen.\nMit geeigneten Übungen beugen wir dem Ver
 schleiß vor\, gleichen bereits entstandene Abnutzung wieder aus und bauen
  zusätzliche Reserven auf. So können wir unsere Beweglichkeit verbessern
  und lernen alltägliche Bewegungen gesünder zu gestalten. Wir stärken d
 en Kreislauf und üben z.B. die richtige Atmung\, Konzentration und Entspa
 nnung.\nVorkenntnisse sind nicht erforderlich. Jeder kann mitmachen\, egal
  wie alt\, wie fit oder wie beweglich er oder sie ist. Anfängerinnen und 
 Anfänger sind herzlich willkommen. – Wir üben ohne Faszienrolle!\n\nLe
 itung: Heidemarie Windauer ist staatlich geprüfte Gymnastiklehrerin und h
 at 1973 ihr Examen an der TU München mit dem Zusatzfach „Pflegerische G
 ymnastik“ absolviert. Seither ist sie kontinuierlich in Weiterbildung un
 d Forschung aktiv.\n\nImmer dienstags von 09:30 – 10:30 Uhr im Saal des 
 Johanneshauses in Neu-Ulm\n\nAnsprechpartnerinnen für Anmeldungen\, Beitr
 äge oder Fragen jeder Art sind Frau Köstler oder Brigitte Müller von de
 r Katholischen Erwachsenenbildung (im 2. Stock des Johanneshauses\, Tel. 0
 731 74202).
LOCATION:Johanneshaus\, Johannesplatz 4\, Neu-Ulm\, Bayern\, 89231\, Deutsc
 hland
X-APPLE-STRUCTURED-LOCATION;VALUE=URI;X-ADDRESS=Johannesplatz 4\, Neu-Ulm\,
  Bayern\, 89231\, Deutschland;X-APPLE-RADIUS=100;X-TITLE=Johanneshaus:geo:
 0,0
END:VEVENT
BEGIN:VTIMEZONE
TZID:Europe/Berlin
X-LIC-LOCATION:Europe/Berlin
BEGIN:DAYLIGHT
DTSTART:20260329T030000
TZOFFSETFROM:+0100
TZOFFSETTO:+0200
TZNAME:CEST
END:DAYLIGHT
END:VTIMEZONE
END:VCALENDAR