BEGIN:VCALENDAR
VERSION:2.0
PRODID:-//wp-events-plugin.com//6.6.4.4//EN
TZID:Europe/Berlin
X-WR-TIMEZONE:Europe/Berlin
BEGIN:VEVENT
UID:6825@pg-neu-ulm.de
DTSTART;TZID=Europe/Berlin:20251221T100000
DTEND;TZID=Europe/Berlin:20251221T110000
DTSTAMP:20251125T090010Z
URL:https://www.pg-neu-ulm.de/events/familiengottesdienst-zum-4-advent-st-
 albert/
SUMMARY:Familiengottesdienst zum 4. Advent mit der FaGo-Band in St. Albert\
 , anschl. Kirchenkaffee
DESCRIPTION:\n\n&nbsp\;\n\n\nFestprogramm 2025 - 2026: 70 Jahre St. Albert\
 n(bitte anklicken - PDF öffnet sich)\n\n
CATEGORIES:Advent,Familie,Familiengottesdienst
LOCATION:St. Albert\, Goethestraße 5\, Neu-Ulm/Offenhausen\, 89231\, Deuts
 chland
X-APPLE-STRUCTURED-LOCATION;VALUE=URI;X-ADDRESS=Goethestraße 5\, Neu-Ulm/O
 ffenhausen\, 89231\, Deutschland;X-APPLE-RADIUS=100;X-TITLE=St. Albert:geo
 :0,0
END:VEVENT
BEGIN:VTIMEZONE
TZID:Europe/Berlin
X-LIC-LOCATION:Europe/Berlin
BEGIN:STANDARD
DTSTART:20251026T020000
TZOFFSETFROM:+0200
TZOFFSETTO:+0100
TZNAME:CET
END:STANDARD
END:VTIMEZONE
END:VCALENDAR