BEGIN:VCALENDAR
VERSION:2.0
PRODID:-//wp-events-plugin.com//6.6.4.4//EN
TZID:Europe/Berlin
X-WR-TIMEZONE:Europe/Berlin
BEGIN:VEVENT
UID:7080@pg-neu-ulm.de
DTSTART;TZID=Europe/Berlin:20260219T194500
DTEND;TZID=Europe/Berlin:20260219T210000
DTSTAMP:20260218T073615Z
URL:https://www.pg-neu-ulm.de/events/cityseelsorge-tueroffner-kurs-i-d-fas
 tenzeit-bitte-anmelden/
SUMMARY:Cityseelsorge: Türoffner-Kurs i. d. Fastenzeit - bitte anmelden
DESCRIPTION:Unser Glaubenskurs lädt dazu ein\, grundlegende Fragen des Le
 bens und des Glaubens neu zu entdecken. In offener Atmosphäre bieten wir
  einen Einstieg für alle\, die mehr wissen oder sich austauschen möchten
 .\n\nDie Teilnahme ist kostenlos – eine Anmeldung ist bis zum 17.02. 
 an cityseelsorge.neu-ulm@bistum-augsburg.de möglich.\n\nGemeinsam machen 
 wir uns auf den Weg\, Sinn\, Hoffnung und Gottes Spuren im eigenen Leben z
 u entdecken.\n\n\n\n
CATEGORIES:Citypastoral,Fastenzeit
LOCATION:Johanneshaus\, Johannesplatz 4\, Neu-Ulm\, Bayern\, 89231\, Deutsc
 hland
X-APPLE-STRUCTURED-LOCATION;VALUE=URI;X-ADDRESS=Johannesplatz 4\, Neu-Ulm\,
  Bayern\, 89231\, Deutschland;X-APPLE-RADIUS=100;X-TITLE=Johanneshaus:geo:
 0,0
END:VEVENT
BEGIN:VTIMEZONE
TZID:Europe/Berlin
X-LIC-LOCATION:Europe/Berlin
BEGIN:STANDARD
DTSTART:20251026T020000
TZOFFSETFROM:+0200
TZOFFSETTO:+0100
TZNAME:CET
END:STANDARD
END:VTIMEZONE
END:VCALENDAR