BEGIN:VCALENDAR
VERSION:2.0
PRODID:-//wp-events-plugin.com//6.6.4.4//EN
TZID:Europe/Berlin
X-WR-TIMEZONE:Europe/Berlin
BEGIN:VEVENT
UID:7068@pg-neu-ulm.de
DTSTART;TZID=Europe/Berlin:20260207T093000
DTEND;TZID=Europe/Berlin:20260207T120000
DTSTAMP:20260118T100357Z
URL:https://www.pg-neu-ulm.de/events/cityseelsorge-selbstfuersorge-trotz-a
 lltagschaos-bitte-anmelden-bis-01-02/
SUMMARY:Cityseelsorge: Selbstfürsorge trotz Alltagschaos - alle Plätze be
 reits belegt
DESCRIPTION:
CATEGORIES:Citypastoral
LOCATION:Johanneshaus\, Johannesplatz 4\, Neu-Ulm\, Bayern\, 89231\, Deutsc
 hland
X-APPLE-STRUCTURED-LOCATION;VALUE=URI;X-ADDRESS=Johannesplatz 4\, Neu-Ulm\,
  Bayern\, 89231\, Deutschland;X-APPLE-RADIUS=100;X-TITLE=Johanneshaus:geo:
 0,0
END:VEVENT
BEGIN:VTIMEZONE
TZID:Europe/Berlin
X-LIC-LOCATION:Europe/Berlin
BEGIN:STANDARD
DTSTART:20251026T020000
TZOFFSETFROM:+0200
TZOFFSETTO:+0100
TZNAME:CET
END:STANDARD
END:VTIMEZONE
END:VCALENDAR