BEGIN:VCALENDAR
VERSION:2.0
PRODID:-//wp-events-plugin.com//6.6.4.4//EN
TZID:Europe/Berlin
X-WR-TIMEZONE:Europe/Berlin
BEGIN:VEVENT
UID:6805@pg-neu-ulm.de
DTSTART;TZID=Europe/Berlin:20251224T220000
DTEND;TZID=Europe/Berlin:20251224T235900
DTSTAMP:20251103T101336Z
URL:https://www.pg-neu-ulm.de/events/christmette-st-mammas/
SUMMARY:Christmette St. Mammas
DESCRIPTION:Herzliche Einladung!
CATEGORIES:St. Mammas
LOCATION:Kirche St. Mammas\, St.-Mammas-Weg\, Neu-Ulm/Finningen\, 89233\, D
 eutschland
X-APPLE-STRUCTURED-LOCATION;VALUE=URI;X-ADDRESS=St.-Mammas-Weg\, Neu-Ulm/Fi
 nningen\, 89233\, Deutschland;X-APPLE-RADIUS=100;X-TITLE=Kirche St. Mammas
 :geo:0,0
END:VEVENT
BEGIN:VTIMEZONE
TZID:Europe/Berlin
X-LIC-LOCATION:Europe/Berlin
BEGIN:STANDARD
DTSTART:20251026T020000
TZOFFSETFROM:+0200
TZOFFSETTO:+0100
TZNAME:CET
END:STANDARD
END:VTIMEZONE
END:VCALENDAR