BEGIN:VCALENDAR
VERSION:2.0
PRODID:-//wp-events-plugin.com//6.6.4.4//EN
TZID:Europe/Berlin
X-WR-TIMEZONE:Europe/Berlin
BEGIN:VEVENT
UID:6804@pg-neu-ulm.de
DTSTART;TZID=Europe/Berlin:20251224T180000
DTEND;TZID=Europe/Berlin:20251224T200000
DTSTAMP:20251209T085312Z
URL:https://www.pg-neu-ulm.de/events/christmette-heilig-kreuz/
SUMMARY:Christmette Heilig Kreuz m. musikal. Gestaltung
DESCRIPTION:Herzliche Einladung!\n\nMusik: Maria u. Thomas Kleinhans\, Karm
 en Batistic Nardin
CATEGORIES:Hl. Kreuz,Programm Kirchenmusik
LOCATION:Hl. Kreuz\, Platzgasse 14\, Neu-Ulm/Pfuhl\, 89233\, Deutschland
X-APPLE-STRUCTURED-LOCATION;VALUE=URI;X-ADDRESS=Platzgasse 14\, Neu-Ulm/Pfu
 hl\, 89233\, Deutschland;X-APPLE-RADIUS=100;X-TITLE=Hl. Kreuz:geo:0,0
END:VEVENT
BEGIN:VTIMEZONE
TZID:Europe/Berlin
X-LIC-LOCATION:Europe/Berlin
BEGIN:STANDARD
DTSTART:20251026T020000
TZOFFSETFROM:+0200
TZOFFSETTO:+0100
TZNAME:CET
END:STANDARD
END:VTIMEZONE
END:VCALENDAR