BEGIN:VCALENDAR
VERSION:2.0
PRODID:-//wp-events-plugin.com//6.6.4.4//EN
TZID:Europe/Berlin
X-WR-TIMEZONE:Europe/Berlin
BEGIN:VEVENT
UID:7144@pg-neu-ulm.de
DTSTART;TZID=Europe/Berlin:20260421T193000
DTEND;TZID=Europe/Berlin:20260421T210000
DTSTAMP:20260304T092643Z
URL:https://www.pg-neu-ulm.de/events/bibelgespraechskreis-st-konrad-4/
SUMMARY:Bibelgesprächskreis St. Konrad
DESCRIPTION:Herzliche Einladung!\n\nWann?  Jeden 3. Dienstag im Monat von 
 19:30 Uhr bis 21 Uhr\n\nWo?  Pfarrheim St. Konrad\, Konferenzraum\n\n&nbs
 p\;\n\nDie nächsten Termine:\n\n\ndienstags\n\n21.04.26\n\n19.05.26\n\n16
 .06.26\n\n21.07.26\n\n&nbsp\;\n\nEs ist ein offener Kreis. Sie können ein
 fach dazukommen.\n\n&nbsp\;\n\nKontakt:\nSt. Konradsverein e. V.\nMarianne
  Baumann\, Tel. 0731 711839
CATEGORIES:St. Konrad
LOCATION:Pfarrzentrum St. Konrad\, Friedhofstr. 8\, Neu-Ulm/Burlafingen\, B
 ayern\, 89233\, Deutschland
X-APPLE-STRUCTURED-LOCATION;VALUE=URI;X-ADDRESS=Friedhofstr. 8\, Neu-Ulm/Bu
 rlafingen\, Bayern\, 89233\, Deutschland;X-APPLE-RADIUS=100;X-TITLE=Pfarrz
 entrum St. Konrad:geo:0,0
END:VEVENT
BEGIN:VTIMEZONE
TZID:Europe/Berlin
X-LIC-LOCATION:Europe/Berlin
BEGIN:DAYLIGHT
DTSTART:20260329T030000
TZOFFSETFROM:+0100
TZOFFSETTO:+0200
TZNAME:CEST
END:DAYLIGHT
END:VTIMEZONE
END:VCALENDAR