BEGIN:VCALENDAR
VERSION:2.0
PRODID:-//wp-events-plugin.com//6.6.4.4//EN
TZID:Europe/Berlin
X-WR-TIMEZONE:Europe/Berlin
BEGIN:VEVENT
UID:6755@pg-neu-ulm.de
DTSTART;TZID=Europe/Berlin:20251216T193000
DTEND;TZID=Europe/Berlin:20251216T210000
DTSTAMP:20250821T172646Z
URL:https://www.pg-neu-ulm.de/events/bibelgespraechskreis-st-konrad-2025-1
 2-16/
SUMMARY:Bibelgesprächskreis St. Konrad
DESCRIPTION:Herzliche Einladung!\n\nWann?  Jeden 3. Dienstag im Monat von 
 19:30 Uhr bis 21 Uhr\n\nWo?  Pfarrheim St. Konrad\, Konferenzraum\n\n&nbs
 p\;\n\nDie nächsten Termine:\n\nDienstag\, 16. September 2025\n\nDienstag
 \, 14. Oktober 2025\n\nDienstag\, 18. November 2025\n\nDienstag\, 16. Deze
 mber 2025\n\n&nbsp\;\n\nEs ist ein offener Kreis. Sie können einfach dazu
 kommen.\n\n&nbsp\;\n\nKontakt:\nSt. Konradsverein e. V.\nMarianne Baumann\
 , Tel. 0731 711839
CATEGORIES:St. Konrad
LOCATION:Pfarrzentrum St. Konrad\, Friedhofstr. 8\, Neu-Ulm/Burlafingen\, B
 ayern\, 89233\, Deutschland
X-APPLE-STRUCTURED-LOCATION;VALUE=URI;X-ADDRESS=Friedhofstr. 8\, Neu-Ulm/Bu
 rlafingen\, Bayern\, 89233\, Deutschland;X-APPLE-RADIUS=100;X-TITLE=Pfarrz
 entrum St. Konrad:geo:0,0
END:VEVENT
BEGIN:VTIMEZONE
TZID:Europe/Berlin
X-LIC-LOCATION:Europe/Berlin
BEGIN:STANDARD
DTSTART:20251026T020000
TZOFFSETFROM:+0200
TZOFFSETTO:+0100
TZNAME:CET
END:STANDARD
END:VTIMEZONE
END:VCALENDAR