BEGIN:VCALENDAR
VERSION:2.0
PRODID:-//wp-events-plugin.com//6.6.4.4//EN
TZID:Europe/Berlin
X-WR-TIMEZONE:Europe/Berlin
BEGIN:VEVENT
UID:7009@pg-neu-ulm.de
DTSTART;TZID=Europe/Berlin;VALUE=DATE:20260101
DTEND;TZID=Europe/Berlin;VALUE=DATE:20260102
DTSTAMP:20251216T073650Z
URL:https://www.pg-neu-ulm.de/events/angbote-d-pg-neu-ulm-an-silvester-und
 -neujahr-2/
SUMMARY:Angbote d. PG Neu-Ulm an Silvester und Neujahr
DESCRIPTION:
END:VEVENT
BEGIN:VTIMEZONE
TZID:Europe/Berlin
X-LIC-LOCATION:Europe/Berlin
BEGIN:STANDARD
DTSTART:20251026T020000
TZOFFSETFROM:+0200
TZOFFSETTO:+0100
TZNAME:CET
END:STANDARD
END:VTIMEZONE
END:VCALENDAR